BEGIN:VCALENDAR
VERSION:2.0
PRODID:-//House Of Grace Church - ECPv6.14.2//NONSGML v1.0//EN
CALSCALE:GREGORIAN
METHOD:PUBLISH
X-WR-CALNAME:House Of Grace Church
X-ORIGINAL-URL:https://www.houseofgrace.or.ke
X-WR-CALDESC:Events for House Of Grace Church
REFRESH-INTERVAL;VALUE=DURATION:PT1H
X-Robots-Tag:noindex
X-PUBLISHED-TTL:PT1H
BEGIN:VTIMEZONE
TZID:Africa/Nairobi
BEGIN:STANDARD
TZOFFSETFROM:+0300
TZOFFSETTO:+0300
TZNAME:EAT
DTSTART:20260101T000000
END:STANDARD
END:VTIMEZONE
BEGIN:VEVENT
DTSTART;TZID=Africa/Nairobi:20260503T180000
DTEND;TZID=Africa/Nairobi:20260506T200000
DTSTAMP:20260423T013446
CREATED:20260421T161432Z
LAST-MODIFIED:20260421T161706Z
UID:2369-1777831200-1778097600@www.houseofgrace.or.ke
SUMMARY:THE SHIFT CONFERENCE || MAY 3RD TO 6TH || 3RD MAY 10AM-12:15PM
DESCRIPTION:
URL:https://www.houseofgrace.or.ke/event/the-shift-conference-may-3rd-to-6th-3rd-may-10am-1215pm/
END:VEVENT
END:VCALENDAR